BEGIN:VCALENDAR
VERSION:2.0
PRODID:-//Ashland Church - ECPv6.15.16//NONSGML v1.0//EN
CALSCALE:GREGORIAN
METHOD:PUBLISH
X-WR-CALNAME:Ashland Church
X-ORIGINAL-URL:https://www.ashland.church
X-WR-CALDESC:Events for Ashland Church
REFRESH-INTERVAL;VALUE=DURATION:PT1H
X-Robots-Tag:noindex
X-PUBLISHED-TTL:PT1H
BEGIN:VTIMEZONE
TZID:America/New_York
BEGIN:DAYLIGHT
TZOFFSETFROM:-0500
TZOFFSETTO:-0400
TZNAME:EDT
DTSTART:20250309T070000
END:DAYLIGHT
BEGIN:STANDARD
TZOFFSETFROM:-0400
TZOFFSETTO:-0500
TZNAME:EST
DTSTART:20251102T060000
END:STANDARD
BEGIN:DAYLIGHT
TZOFFSETFROM:-0500
TZOFFSETTO:-0400
TZNAME:EDT
DTSTART:20260308T070000
END:DAYLIGHT
BEGIN:STANDARD
TZOFFSETFROM:-0400
TZOFFSETTO:-0500
TZNAME:EST
DTSTART:20261101T060000
END:STANDARD
BEGIN:DAYLIGHT
TZOFFSETFROM:-0500
TZOFFSETTO:-0400
TZNAME:EDT
DTSTART:20270314T070000
END:DAYLIGHT
BEGIN:STANDARD
TZOFFSETFROM:-0400
TZOFFSETTO:-0500
TZNAME:EST
DTSTART:20271107T060000
END:STANDARD
END:VTIMEZONE
BEGIN:VEVENT
DTSTART;TZID=America/New_York:20260503T100000
DTEND;TZID=America/New_York:20260503T113000
DTSTAMP:20260423T044650
CREATED:20260220T194325Z
LAST-MODIFIED:20260220T194611Z
UID:10000340-1777802400-1777807800@www.ashland.church
SUMMARY:Student Mobilization Sunday
DESCRIPTION:Join us for a special Sunday worship gathering on Sunday\, May 3rd as we pray for and commission our graduates! If you are graduating this spring from high school or college (or graduated in the fall) please fill out the form below by April 26th to participate.
URL:https://www.ashland.church/event/student-mobilization-sunday-2/
ATTACH;FMTTYPE=image/png:https://www.ashland.church/wp-content/uploads/2022/04/2022-SMS-Web.png
END:VEVENT
END:VCALENDAR